BEGIN:VCALENDAR
VERSION:2.0
PRODID:-//CERN//INDICO//EN
BEGIN:VEVENT
SUMMARY:Infrasound Records And Data Analysis For The South Indian Ocean Fi
 reball On March 4\, 2020
DTSTART:20210630T080000Z
DTEND:20210630T081500Z
DTSTAMP:20260424T224200Z
UID:indico-contribution-945@conferences.ctbto.org
DESCRIPTION:Speakers: Murad Alhomaimat (Jordan Seismological Observatory (
 JSO)\, Jordan)\n\nOn March 4\, 2020 the Infrasound Stations I03AU\, I05AU 
 and I47ZA detected the South Indian Ocean event at 20:26:40 UTC. This dete
 ction belonged to a fireball that had a TNT yield equivalent of 1 kiloton 
 (Kt). The infrasonic signals were observed by the three infrasound arrays 
 that are part of the International Monitoring System (IMS) located in Aust
 ralia and South Africa. The PMCC method was used to estimate the wave para
 meters at the three infrasound arrays\, and the source location (52.11S\, 
 91.15E) was determined by the back azimuth intersection\, which is only 10
 0 kilometers away from NASA's location (53.3S\, 90.8E).\n\nhttps://confere
 nces.ctbto.org/event/7/contributions/945/
LOCATION:Online
RELATED-TO:indico-event-7@conferences.ctbto.org
URL:https://conferences.ctbto.org/event/7/contributions/945/
END:VEVENT
END:VCALENDAR
