BEGIN:VCALENDAR
VERSION:2.0
PRODID:-//CERN//INDICO//EN
BEGIN:VEVENT
SUMMARY:Infrasonic Signatures of 1001 Rocket Launches for Space Missions
DTSTART:20210630T074500Z
DTEND:20210630T080000Z
DTSTAMP:20260424T224200Z
UID:indico-contribution-944@conferences.ctbto.org
DESCRIPTION:Speakers: Peter Gaebler (Federal Institute for Geosciences and
  Natural Resources (BGR)\, Hannover\, Germany)\, Patrick Hupe (Federal Ins
 titute for Geosciences and Natural Resources (BGR)\, Hannover\, Germany)\,
  Lars Ceranna (Federal Institute for Geosciences and Natural Resources (BG
 R)\, Hannover\, Germany)\, Christoph Pilger (Federal Institute for Geoscie
 nces and Natural Resources (BGR)\, Hannover\, Germany)\n\nIn the present s
 tudy we analyze infrasound signatures of 1001 rocket launches for space mi
 ssions recorded at stations of the International Monitoring System between
  2009 and mid-2020. We include all surface- or ocean-based launches within
  this period with known launch time\, location\, rocket type\, and mission
  name\; whereas launches of sounding rockets and ballistic missiles for sc
 ientific and military purposes\, respectively\, are excluded from our stud
 y. We characterize the infrasonic signatures of over 70 different types of
  rockets launched at 27 different globally distributed spaceports to estim
 ate the general detectability of rocket infrasound\, to evaluate the indiv
 idual station performance\, to quantify propagation and attenuation effect
 s and\, finally\, to derive a relation between rocket thrust and acoustic 
 energy. Results from the infrasound analysis of the launches will be provi
 ded as a DOI referenced dataset for supporting future research on infrasou
 nd topics as well as on atmospheric dynamics.\n\nhttps://conferences.ctbto
 .org/event/7/contributions/944/
LOCATION:Online
RELATED-TO:indico-event-7@conferences.ctbto.org
URL:https://conferences.ctbto.org/event/7/contributions/944/
END:VEVENT
END:VCALENDAR
