BEGIN:VCALENDAR
VERSION:2.0
PRODID:-//CERN//INDICO//EN
BEGIN:VEVENT
SUMMARY:Seismoacoustic observation of surface explosions in Israel region.
DTSTART:20210701T093500Z
DTEND:20210701T095000Z
DTSTAMP:20260424T203900Z
UID:indico-contribution-927@conferences.ctbto.org
DESCRIPTION:Speakers: Yochai Ben-Horin (Soreq Nuclear Research Center\, Ya
 vne\, Israel)\n\nThe International Data Center (IDC) analyze routinely sei
 smoacoustic data for producing a list of seismoacoustic events as part of 
 the Comprehensive Nuclear-Test Ban Treaty (CTBT) verification regime. \nHo
 wever\, the fusion between seismic and infrasound date is not yet satisfac
 tory.\nA set of seismoacustic events with known location\, origin time and
  if possible their energy\, is necessary in order to improve our understan
 ding\, \nand to calibrate our algorithms and stations.\nSayarim shooting r
 ange is located at the south of Israel\, it hosted several sets of dedicat
 ed calibration explosions during summer 2009 and winter 2011. \nIn additio
 n several times per year\, large explosions of the order of 20-40 ton\, ar
 e detonated at the range. \nSome of the explosions were detected by the IM
 S infrasound stations. \nIn this work\, we present the results of seismic 
 and infrasound analysis of these explosions based on data from IMS station
 s and local stations.\n\nhttps://conferences.ctbto.org/event/7/contributio
 ns/927/
LOCATION:Stage 2 (Online)
RELATED-TO:indico-event-7@conferences.ctbto.org
URL:https://conferences.ctbto.org/event/7/contributions/927/
END:VEVENT
END:VCALENDAR
