BEGIN:VCALENDAR
VERSION:2.0
PRODID:-//CERN//INDICO//EN
BEGIN:VEVENT
SUMMARY:Seismo-acoustic data fusion: determining the best acquisition desi
 gns for multi-phenomenological monitoring campaigns
DTSTART:20210701T095000Z
DTEND:20210701T100500Z
DTSTAMP:20260424T203900Z
UID:indico-contribution-926@conferences.ctbto.org
DESCRIPTION:Speakers: Sarah Albert (Sandia National Laboratories (SNL)\, A
 lbuquerque\, NM\, USA)\, Elizabeth Berg (Sandia National Laboratories (SNL
 )\, Albuquerque\, NM\, USA)\, Ronald Brogan (ENSCO\, Inc. Springfield\, VA
 \, USA)\n\nFor low-yield monitoring applications\, the combined analysis o
 f seismic and infrasound data could lead to significant improvements in ou
 r understanding of the processes that simultaneously generate both types o
 f signals. Assembling datasets that contain seismic and infrasound signals
  generated by a single source can provide a better understanding of specif
 ic source processes. The successful combination of signals requires unders
 tanding the fidelity of infrasound measurements – especially for local\,
  temporary instrumentation. Therefore\, the first part of this presentatio
 n will focus on understanding and constructing methods by which the qualit
 y of infrasound data can be enhanced to match that of seismic data. Then\,
  we present an in-depth analysis on the current state of seismo-acoustic d
 ata fusion and examine its use in monitoring applications. This presentati
 on will cover a series of seismo-acoustic datasets that contain signals ge
 nerated by a variety of source processes\, including earthquake sequences\
 , avalanche/landslide signals\, rocket launches\, and industrial explosion
 s. We also present findings from joint analyses of these datasets to exami
 ne the unique properties of each source type. Ultimately\, we determine th
 e best acquisition designs for multi-phenomenological monitoring campaigns
  with a focus on seismo-acoustic data fusion.\n\nhttps://conferences.ctbto
 .org/event/7/contributions/926/
LOCATION:Stage 2 (Online)
RELATED-TO:indico-event-7@conferences.ctbto.org
URL:https://conferences.ctbto.org/event/7/contributions/926/
END:VEVENT
END:VCALENDAR
