BEGIN:VCALENDAR
VERSION:2.0
PRODID:-//CERN//INDICO//EN
BEGIN:VEVENT
SUMMARY:CTBT 2026: Scaling up Youth Initiatives
DTSTART:20210629T084500Z
DTEND:20210629T090000Z
DTSTAMP:20260424T204000Z
UID:indico-contribution-1366@conferences.ctbto.org
DESCRIPTION:Speakers: Milana Ozerina (National Research Nuclear University
  MEPhI\, Moscow\, Russian Federation)\, Anastasia Salnikova (National Rese
 arch Nuclear University MEPhI\, Moscow\, Russian Federation)\n\n2026 marks
  the 30th anniversary of the adoption of the CTBT and the establishment of
  the CTBTO. One of the most powerful tools that can help the CTBT enter in
 to force is the young generation. We hope that the CTBT Youth Group could 
 break this vicious circle.\nWe are aiming to establish a project to raise 
 awareness for the young generation and to educate them. We have already as
 sembled a team of activists and arranged sessions of 30-minute interactive
  seminars with NRNU MEPhI pre-university students. The target is to explai
 n technical terms in simple words\, plunge into history\, briefly describe
  future possibilities\, and to motivate them to join the CTBTO Youth Group
 . It can serve as a springboard for considerable actions relating to the C
 TBT.\nWe are deeply convinced that our generation is a generation that can
  change the world. We see that the future of the Organization and of the T
 reaty is youth. Our generation is full of strength and energy\, we have a 
 lot of opportunities and tools for implementation. Our world is changing r
 apidly\, and we would like organizations to keep pace with these changes.\
 n\nhttps://conferences.ctbto.org/event/7/contributions/1366/
LOCATION:Online
RELATED-TO:indico-event-7@conferences.ctbto.org
URL:https://conferences.ctbto.org/event/7/contributions/1366/
END:VEVENT
END:VCALENDAR
