BEGIN:VCALENDAR
VERSION:2.0
PRODID:-//CERN//INDICO//EN
BEGIN:VEVENT
SUMMARY:CTBTO Youth Group as a prime model of track 2 diplomacy: united in
  science
DTSTART:20210629T094500Z
DTEND:20210629T100000Z
DTSTAMP:20260424T203700Z
UID:indico-contribution-1360@conferences.ctbto.org
DESCRIPTION:Speakers: Marzhan Nurzhan (Parliamentarians for Nuclear Non-Pr
 oliferation and Disarmament (PNND)\, Czech Republic)\n\nCTBTO Youth Group 
 represents a unique platform of almost 1000 members from diverse backgroun
 ds\,connecting science and policy in an interdisciplinary way. The platfor
 m provides opportunities through nuclear disarmament and non-proliferation
  education to involve its members in various track 2 diplomacy channels cr
 eating a safe space for active engagement\, learning and exchange between 
 peers coming from nuclear- and non-nuclear weapon states. This special typ
 e of interaction is possible through different dialogue possibilities avai
 lable for the members\, such as citizen diplomacy\, science diplomacy\, in
 tergenerational cooperation and citizen journalism - fostering peace and c
 ollaborative atmosphere. Technological aspects of the CYG include the webs
 ite with e-learning resources\, connection via webinars and social media. 
 These tools help to expand the network outside of nuclear field and attrac
 t more interest in the importance of banning nuclear testing\, demonstrati
 ng support using a variety of means and contributing for the entry into fo
 rce of the CTBT\, highlighting its verification regime along with the scie
 ntific benefits.\n\nhttps://conferences.ctbto.org/event/7/contributions/13
 60/
LOCATION:Online
RELATED-TO:indico-event-7@conferences.ctbto.org
URL:https://conferences.ctbto.org/event/7/contributions/1360/
END:VEVENT
END:VCALENDAR
