BEGIN:VCALENDAR
VERSION:2.0
PRODID:-//CERN//INDICO//EN
BEGIN:VEVENT
SUMMARY:Comparisons between the interactive seismological analysis softwar
 es SEISAN and Geotool: advantages and disadvantages from the Venezuelan ND
 C perspective
DTSTART:20210629T094500Z
DTEND:20210629T100000Z
DTSTAMP:20260424T230100Z
UID:indico-contribution-1354@conferences.ctbto.org
DESCRIPTION:Speakers: Alejandra Martinez Gonzalez (Fundación Venezolana d
 e Investigaciones Sismológicas (FUNVISIS)\, Caracas\, Venezuela)\n\nThe i
 nteractive seismological analysis system used by default at the Venezuelan
  NDC (Funvisis) is the SEISAN\, which offers a complete package of program
 s for seismological analysis and for research purposes. Geotool\, although
  it does not have a seismological research program package\, is a software
  with a graphical interface that allows to display and analyze seismic eve
 nts interactively. Both softwares can be customised and exteded\, which is
  considered an advantage in these times of technological developments. SEI
 SAN is used\, commonly\, through commands in the terminal\, or command win
 dow\, in the operating system in which it has been installed\, in addition
 \, the way to mark the seismic phases in the seismograms requires a lot of
  practice\, making it prone to errors. On the other hand\, Geotool has a f
 riendly graphical interface that allows access to functions quickly and in
 tuitively\, such as observing statistics\, errors and location parameters 
 in a window within the interface and not in an uncomfortable terminal wind
 ow. The advantage of SEISAN\, regarding nuclear explosions and CTBTO's mai
 n aim\, is its ability of making focal mechanisms\, a procedure which is f
 undamental regarding the differentiation of a natural event from an artifi
 cial one.\n\nhttps://conferences.ctbto.org/event/7/contributions/1354/
LOCATION:Online
RELATED-TO:indico-event-7@conferences.ctbto.org
URL:https://conferences.ctbto.org/event/7/contributions/1354/
END:VEVENT
END:VCALENDAR
