BEGIN:VCALENDAR
VERSION:2.0
PRODID:-//CERN//INDICO//EN
BEGIN:VEVENT
SUMMARY:Knowledge Management in the Context of Comprehensive Nuclear-Test-
 Ban Treaty (CTBT) Science and Technology
DTSTART:20210629T123400Z
DTEND:20210629T124900Z
DTSTAMP:20260424T203800Z
UID:indico-contribution-1329@conferences.ctbto.org
DESCRIPTION:Speakers: Marija Sejmenova-Gichevska (Former CTBTO Preparatory
  Commission\, Vienna\, Austria)\n\nIn support to the Comprehensive Nuclear
 -Test-Ban Treaty\, the worldwide scientific community - via the CTBT SnT C
 onferences - has the opportunity to build partnerships and encourage knowl
 edge exchange\, allowing the CTBTO to remain at the forefront of the relev
 ant technology for test-ban verification. The SnT Conferences are organize
 d biennially by the Preparatory Commission for the Comprehensive Nuclear-T
 est-Ban Treaty Organisation (CTBTO). This paper analyses the CTBT SnT topi
 cs presented at the Conferences from 2006-2021\, capitalizing on scientifi
 c and technological applications\, trends\, innovations and worldwide coll
 aborations. The goal of this work is to provide directions on the knowledg
 e management approach for deep content analysis\, strengthening the role o
 f Knowledge Organisation Systems (KOS) as a mechanism and tool for analysi
 ng and disseminating content. This research reflects the necessity of crea
 ting a KOS-based tool for knowledge recognition and discovery that will en
 courage communication in a valuable way.\n\nhttps://conferences.ctbto.org/
 event/7/contributions/1329/
LOCATION:Location 3 (Online)
RELATED-TO:indico-event-7@conferences.ctbto.org
URL:https://conferences.ctbto.org/event/7/contributions/1329/
END:VEVENT
END:VCALENDAR
