BEGIN:VCALENDAR
VERSION:2.0
PRODID:-//CERN//INDICO//EN
BEGIN:VEVENT
SUMMARY:CTBTO Link to the ISC Database as a Tool for Capacity Building and
  Education
DTSTART:20210629T121900Z
DTEND:20210629T123400Z
DTSTAMP:20260424T210200Z
UID:indico-contribution-1327@conferences.ctbto.org
DESCRIPTION:Speakers: James Harris (International Seismological Centre (IS
 C)\, United Kingdom)\, Ryan Gallacher (International Seismological Centre 
 (ISC)\, United Kingdom)\, Dmitry Storchak (International Seismological Cen
 tre (ISC)\, United Kingdom)\n\nThe CTBTO Link to the database of the Inter
 national Seismological Centre (ISC) is a service provided on behalf and by
  arrangement with IDC/CTBTO. The Link enables PTS and National Data Centre
 s (NDC) with dedicated access to long-term definitive global datasets main
 tained by ISC using specially designed graphical interfaces\, database que
 ries and non-IMS waveform requests. This service gives access to the ISC B
 ulletins of natural seismicity of the Earth\, mining induced events\, nucl
 ear and chemical explosions\; the ISC-EHB dataset\; the IASPEI Reference E
 vent list (GT) and the ISC Event Bibliography.\n\nThe searches are tailore
 d to the needs of the monitoring community and divided into four categorie
 s: Area based spatio-temporal search (based on ISC Bulletin)\, REB based s
 patio-temporal search\, GT event based search and the IMS station based se
 arch (historical reporting patterns of stations close to IMS sites). We re
 cently made several additions\, for example\, a service reporting suspecte
 d time periods of inverted polarities at openly available seismic stations
 . \n\nThe Link demonstrates one of the CTBTO efforts in capacity building 
 for NDCs and education of new generation of seismologists working in monit
 oring research. The Link is regularly used by the NDCs and PTS and proved 
 useful during recent CTBTO Exercises.\n\nhttps://conferences.ctbto.org/eve
 nt/7/contributions/1327/
LOCATION:Location 3 (Online)
RELATED-TO:indico-event-7@conferences.ctbto.org
URL:https://conferences.ctbto.org/event/7/contributions/1327/
END:VEVENT
END:VCALENDAR
